BEGIN:VCALENDAR
VERSION:2.0
PRODID:SchoolNow
CALSCALE:GREGORIAN
BEGIN:VEVENT
UID:fb9b3fdc-8e99-11f0-addb-0a58a9feac02
DTSTAMP:20251216T154523Z
SUMMARY:SOCCER-JV Boys - VS YORKVILLE CHRISTIAN (Game)
LOCATION:HOME - Westmont HS Stadium
URL;VALUE=URI:https://www.cusd201.org/whs/athletics/calendar/8606578/soccer
 -jv-boys-vs-yorkville-christian-game
DTSTART:20251006T213000Z
DTEND:20251006T233000Z
END:VEVENT
END:VCALENDAR
