BEGIN:VCALENDAR
VERSION:2.0
PRODID:SchoolNow
CALSCALE:GREGORIAN
BEGIN:VEVENT
UID:ec2ece12-8f32-11f0-af34-02dcb6a3991b
DTSTAMP:20251216T154523Z
SUMMARY:BASEBALL-JV Boys @ Oswego High School (Game)
LOCATION:Away - Oswego High School
URL;VALUE=URI:https://www.cusd201.org/whs/athletics/calendar/8609341/baseba
 ll-jv-boys-oswego-high-school-game
DTSTART:20260320T213000Z
DTEND:20260320T233000Z
END:VEVENT
END:VCALENDAR
