BEGIN:VCALENDAR
VERSION:2.0
PRODID:SchoolNow
CALSCALE:GREGORIAN
BEGIN:VEVENT
UID:de20fd0e-9031-11f0-828d-025b35ae3495
DTSTAMP:20251216T154523Z
SUMMARY:BASEBALL-V Boys - VS Horizon/McKinley (Game)
LOCATION:HOME - Westmont HS Varsity Baseball Field
URL;VALUE=URI:https://www.cusd201.org/whs/athletics/calendar/8615888/baseba
 ll-v-boys-vs-horizon-mckinley-game
DTSTART:20260330T220000Z
DTEND:20260331T000000Z
END:VEVENT
END:VCALENDAR
