BEGIN:VCALENDAR
VERSION:2.0
PRODID:SchoolNow
CALSCALE:GREGORIAN
BEGIN:VEVENT
UID:a1fd59e6-95c5-11f0-b730-0a58a9feac02
DTSTAMP:20251216T154522Z
SUMMARY:WRESTLING-V Boys @ Fenton (Game)
LOCATION:Away - Fenton
URL;VALUE=URI:https://www.cusd201.org/whs/athletics/calendar/8645147/wrestl
 ing-v-boys-fenton-game
DTSTART:20251206T150000Z
DTEND:20251206T190000Z
END:VEVENT
END:VCALENDAR
