BEGIN:VCALENDAR
VERSION:2.0
PRODID:SchoolNow
CALSCALE:GREGORIAN
BEGIN:VEVENT
UID:7477f93e-9829-11f0-950c-0a58a9feac02
DTSTAMP:20251216T154522Z
SUMMARY:BASEBALL-JV Boys - VS St. Edward (Game)
LOCATION:HOME - Ozinga Field
URL;VALUE=URI:https://www.cusd201.org/whs/athletics/calendar/8654521/baseba
 ll-jv-boys-vs-st-edward-game
DTSTART:20260421T210000Z
DTEND:20260421T230000Z
END:VEVENT
END:VCALENDAR
