BEGIN:VCALENDAR
VERSION:2.0
PRODID:SchoolNow
CALSCALE:GREGORIAN
BEGIN:VEVENT
UID:7477fcb8-9829-11f0-bc70-0a58a9feac02
DTSTAMP:20251216T154522Z
SUMMARY:BASEBALL-V Boys - VS St. Edward (Game)
LOCATION:HOME - Ozinga Field
URL;VALUE=URI:https://www.cusd201.org/whs/athletics/calendar/8654522/baseba
 ll-v-boys-vs-st-edward-game
DTSTART:20260421T230000Z
DTEND:20260422T010000Z
END:VEVENT
END:VCALENDAR
