BEGIN:VCALENDAR
VERSION:2.0
PRODID:SchoolNow
CALSCALE:GREGORIAN
BEGIN:VEVENT
UID:7477fdf8-9829-11f0-bb53-0a58a9feac02
DTSTAMP:20251216T154522Z
SUMMARY:SOFTBALL-V Girls @ Evergreen Park (Game)
LOCATION:Away - Evergreen Park
URL;VALUE=URI:https://www.cusd201.org/whs/athletics/calendar/8654523/softba
 ll-v-girls-evergreen-park-game
DTSTART:20260318T213000Z
DTEND:20260318T233000Z
END:VEVENT
END:VCALENDAR
