BEGIN:VCALENDAR
VERSION:2.0
PRODID:SchoolNow
CALSCALE:GREGORIAN
BEGIN:VEVENT
UID:7477ff56-9829-11f0-91b0-0a58a9feac02
DTSTAMP:20251216T154523Z
SUMMARY:BASEBALL-V Boys @ Jefferson (Game)
LOCATION:Away - Jefferson
URL;VALUE=URI:https://www.cusd201.org/whs/athletics/calendar/8654524/baseba
 ll-v-boys-jefferson-game
DTSTART:20260410T213000Z
DTEND:20260410T233000Z
END:VEVENT
END:VCALENDAR
