BEGIN:VCALENDAR
VERSION:2.0
PRODID:SchoolNow
CALSCALE:GREGORIAN
BEGIN:VEVENT
UID:74780064-9829-11f0-b836-0a58a9feac02
DTSTAMP:20251216T154523Z
SUMMARY:BASEBALL-V Boys @ Lake Forest Academy (Game)
LOCATION:Away - Lake Forest Academy
URL;VALUE=URI:https://www.cusd201.org/whs/athletics/calendar/8654525/baseba
 ll-v-boys-lake-forest-academy-game
DTSTART:20260515T220000Z
DTEND:20260516T000000Z
END:VEVENT
END:VCALENDAR
