BEGIN:VCALENDAR
VERSION:2.0
PRODID:SchoolNow
CALSCALE:GREGORIAN
BEGIN:VEVENT
UID:74780168-9829-11f0-b2a5-0a58a9feac02
DTSTAMP:20251216T154523Z
SUMMARY:WRESTLING-JV Boys @ Carmel (Game)
LOCATION:Away - Carmel
URL;VALUE=URI:https://www.cusd201.org/whs/athletics/calendar/8654526/wrestl
 ing-jv-boys-carmel-game
DTSTART:20260102T150000Z
DTEND:20260102T190000Z
END:VEVENT
END:VCALENDAR
