BEGIN:VCALENDAR
VERSION:2.0
PRODID:SchoolNow
CALSCALE:GREGORIAN
BEGIN:VEVENT
UID:74780262-9829-11f0-bb79-0a58a9feac02
DTSTAMP:20251216T154522Z
SUMMARY:WRESTLING-V Boys - VS Quad (Game)
LOCATION:HOME - Westmont HS Gym
URL;VALUE=URI:https://www.cusd201.org/whs/athletics/calendar/8654527/wrestl
 ing-v-boys-vs-quad-game
DTSTART:20260103T160000Z
DTEND:20260103T180000Z
END:VEVENT
END:VCALENDAR
