BEGIN:VCALENDAR
VERSION:2.0
PRODID:SchoolNow
CALSCALE:GREGORIAN
BEGIN:VEVENT
UID:59c67db2-9a5a-11f0-8a62-0a58a9feac02
DTSTAMP:20251216T154523Z
SUMMARY:VOLLEYBALL-F Girls - VS Leyden HS (Game)
LOCATION:HOME - Westmont HS Gym
URL;VALUE=URI:https://www.cusd201.org/whs/athletics/calendar/8664467/volley
 ball-f-girls-vs-leyden-hs-game
DTSTART:20251010T213000Z
DTEND:20251010T233000Z
END:VEVENT
END:VCALENDAR
