BEGIN:VCALENDAR
VERSION:2.0
PRODID:SchoolNow
CALSCALE:GREGORIAN
BEGIN:VEVENT
UID:517a1df0-9af3-11f0-90fd-0eab8c4f39e9
DTSTAMP:20251216T154523Z
SUMMARY:VOLLEYBALL-JV Girls @ CICS Ellison (Game)
LOCATION:Away - Cics Ellison
URL;VALUE=URI:https://www.cusd201.org/whs/athletics/calendar/8667307/volley
 ball-jv-girls-cics-ellison-game
DTSTART:20251003T230000Z
DTEND:20251004T000000Z
END:VEVENT
END:VCALENDAR
