BEGIN:VCALENDAR
VERSION:2.0
PRODID:SchoolNow
CALSCALE:GREGORIAN
BEGIN:VEVENT
UID:4e367aca-9b26-11f0-a8cd-0a58a9feac02
DTSTAMP:20251216T154523Z
SUMMARY:BASEBALL-V Boys - VS North Shore Country Day (Game)
LOCATION:HOME - Westmont HS Varsity Baseball Field
URL;VALUE=URI:https://www.cusd201.org/whs/athletics/calendar/8668519/baseba
 ll-v-boys-vs-north-shore-country-day-game
DTSTART:20260521T213000Z
DTEND:20260521T233000Z
END:VEVENT
END:VCALENDAR
