BEGIN:VCALENDAR
VERSION:2.0
PRODID:SchoolNow
CALSCALE:GREGORIAN
BEGIN:VEVENT
UID:44cc6ece-9bbf-11f0-8498-0affcc1d9f9b
DTSTAMP:20251216T154523Z
SUMMARY:VOLLEYBALL-V Girls - VS IHSA Regional Semifinal (Game)
LOCATION:HOME - Westmont HS Gym
URL;VALUE=URI:https://www.cusd201.org/whs/athletics/calendar/8670671/volley
 ball-v-girls-vs-ihsa-regional-semifinal-game
DTSTART:20251028T230000Z
DTEND:20251029T010000Z
END:VEVENT
END:VCALENDAR
