BEGIN:VCALENDAR
VERSION:2.0
PRODID:SchoolNow
CALSCALE:GREGORIAN
BEGIN:VEVENT
UID:44cc7464-9bbf-11f0-9d68-0affcc1d9f9b
DTSTAMP:20251216T154523Z
SUMMARY:SOCCER-V Boys - VS IHSA Regional Semifinal (Game)
LOCATION:HOME - Westmont HS Stadium
URL;VALUE=URI:https://www.cusd201.org/whs/athletics/calendar/8670672/soccer
 -v-boys-vs-ihsa-regional-semifinal-game
DTSTART:20251022T213000Z
DTEND:20251022T233000Z
END:VEVENT
END:VCALENDAR
