BEGIN:VCALENDAR
VERSION:2.0
PRODID:SchoolNow
CALSCALE:GREGORIAN
BEGIN:VEVENT
UID:23ff2602-9e56-11f0-b9f4-0a58a9feac02
DTSTAMP:20251216T154523Z
SUMMARY:SOFTBALL-V Girls - VS Oak Lawn High School (Game)
LOCATION:HOME - Westmont HS Softball Field
URL;VALUE=URI:https://www.cusd201.org/whs/athletics/calendar/8681899/softba
 ll-v-girls-vs-oak-lawn-high-school-game
DTSTART:20260319T213000Z
DTEND:20260319T233000Z
END:VEVENT
END:VCALENDAR
