BEGIN:VCALENDAR
VERSION:2.0
PRODID:SchoolNow
CALSCALE:GREGORIAN
BEGIN:VEVENT
UID:1fae1756-9e89-11f0-a70b-0a58a9feac02
DTSTAMP:20251216T154523Z
SUMMARY:SOFTBALL-V Girls @ Oak Lawn High School (Game)
LOCATION:Away - Oak Lawn High School
URL;VALUE=URI:https://www.cusd201.org/whs/athletics/calendar/8682642/softba
 ll-v-girls-oak-lawn-high-school-game
DTSTART:20260326T213000Z
DTEND:20260326T233000Z
END:VEVENT
END:VCALENDAR
