BEGIN:VCALENDAR
VERSION:2.0
PRODID:SchoolNow
CALSCALE:GREGORIAN
BEGIN:VEVENT
UID:1a62b808-9f22-11f0-b18b-0a58a9feac02
DTSTAMP:20251216T154523Z
SUMMARY:TIME TBD- TRACK and FIELD-V Girls @ IHSA Sectional Championship (Ga
 me)
LOCATION:Away - IHSA Sectional Championship
URL;VALUE=URI:https://www.cusd201.org/whs/athletics/calendar/8685579/time-t
 bd-track-and-field-v-girls-ihsa-sectional-championship-game
DTSTART:20260514T050000Z
DTEND:20260515T045900Z
END:VEVENT
END:VCALENDAR
