BEGIN:VCALENDAR
VERSION:2.0
PRODID:SchoolNow
CALSCALE:GREGORIAN
BEGIN:VEVENT
UID:1a62bba0-9f22-11f0-8f14-0a58a9feac02
DTSTAMP:20251216T154522Z
SUMMARY:TIME TBD- TRACK and FIELD-V Boys @ IHSA Sectional Championship (Gam
 e)
LOCATION:Away - IHSA Sectional Championship
URL;VALUE=URI:https://www.cusd201.org/whs/athletics/calendar/8685580/time-t
 bd-track-and-field-v-boys-ihsa-sectional-championship-game
DTSTART:20260520T050000Z
DTEND:20260521T045900Z
END:VEVENT
END:VCALENDAR
