BEGIN:VCALENDAR
VERSION:2.0
PRODID:SchoolNow
CALSCALE:GREGORIAN
BEGIN:VEVENT
UID:1a62bcea-9f22-11f0-8d23-0a58a9feac02
DTSTAMP:20251216T154522Z
SUMMARY:TRACK and FIELD-V Girls @ State Prelims (Game)
LOCATION:Away - Eastern Illinois University - O'Brien Field
URL;VALUE=URI:https://www.cusd201.org/whs/athletics/calendar/8685581/track-
 and-field-v-girls-state-prelims-game
DTSTART:20260521T150000Z
DTEND:20260521T210000Z
END:VEVENT
END:VCALENDAR
