BEGIN:VCALENDAR
VERSION:2.0
PRODID:SchoolNow
CALSCALE:GREGORIAN
BEGIN:VEVENT
UID:1a62c064-9f22-11f0-baeb-0a58a9feac02
DTSTAMP:20251216T154523Z
SUMMARY:TRACK and FIELD-V Boys @ State Final (Game)
LOCATION:Away - Eastern Illinois University - O'Brien Field
URL;VALUE=URI:https://www.cusd201.org/whs/athletics/calendar/8685584/track-
 and-field-v-boys-state-final-game
DTSTART:20260530T150000Z
DTEND:20260530T230000Z
END:VEVENT
END:VCALENDAR
