BEGIN:VCALENDAR
VERSION:2.0
PRODID:SchoolNow
CALSCALE:GREGORIAN
BEGIN:VEVENT
UID:11e27de0-9fee-11f0-b081-0a58a9feac02
DTSTAMP:20251216T154523Z
SUMMARY:BASKETBALL-JV Boys @ Universal School (Game)
LOCATION:Away - Universal School
URL;VALUE=URI:https://www.cusd201.org/whs/athletics/calendar/8689169/basket
 ball-jv-boys-universal-school-game
DTSTART:20251201T230000Z
DTEND:20251202T010000Z
END:VEVENT
END:VCALENDAR
