BEGIN:VCALENDAR
VERSION:2.0
PRODID:SchoolNow
CALSCALE:GREGORIAN
BEGIN:VEVENT
UID:11e2a64e-9fee-11f0-848b-0a58a9feac02
DTSTAMP:20251216T154523Z
SUMMARY:BASKETBALL-V Boys @ Universal School (Game)
LOCATION:Away - Universal School
URL;VALUE=URI:https://www.cusd201.org/whs/athletics/calendar/8689170/basket
 ball-v-boys-universal-school-game
DTSTART:20251202T003000Z
DTEND:20251202T023000Z
END:VEVENT
END:VCALENDAR
