BEGIN:VCALENDAR
VERSION:2.0
PRODID:SchoolNow
CALSCALE:GREGORIAN
BEGIN:VEVENT
UID:0a61ed2a-a021-11f0-83b5-02f86f21bb4f
DTSTAMP:20251216T154522Z
SUMMARY:GOLF-V Boys @ IHSA Sectional Championship (Game)
LOCATION:Away - Oak Brook Country Club
URL;VALUE=URI:https://www.cusd201.org/whs/athletics/calendar/8690023/golf-v
 -boys-ihsa-sectional-championship-game
DTSTART:20251006T130000Z
DTEND:20251006T200000Z
END:VEVENT
END:VCALENDAR
