BEGIN:VCALENDAR
VERSION:2.0
PRODID:SchoolNow
CALSCALE:GREGORIAN
BEGIN:VEVENT
UID:d6bfd2ea-a4b5-11f0-8f6c-0affd569094f
DTSTAMP:20251216T154523Z
SUMMARY:BASEBALL-JV Boys @ Plano (Game)
LOCATION:Away - Plano
URL;VALUE=URI:https://www.cusd201.org/whs/athletics/calendar/8707061/baseba
 ll-jv-boys-plano-game
DTSTART:20260330T213000Z
DTEND:20260330T233000Z
END:VEVENT
END:VCALENDAR
