BEGIN:VCALENDAR
VERSION:2.0
PRODID:SchoolNow
CALSCALE:GREGORIAN
BEGIN:VEVENT
UID:d6bff360-a4b5-11f0-8e1f-0affd569094f
DTSTAMP:20251216T154522Z
SUMMARY:BASEBALL-JV Boys @ Plano (Game)
LOCATION:Away - Plano
URL;VALUE=URI:https://www.cusd201.org/whs/athletics/calendar/8707062/baseba
 ll-jv-boys-plano-game
DTSTART:20260418T180000Z
DTEND:20260418T200000Z
END:VEVENT
END:VCALENDAR
