BEGIN:VCALENDAR
VERSION:2.0
PRODID:SchoolNow
CALSCALE:GREGORIAN
BEGIN:VEVENT
UID:d6bff5fe-a4b5-11f0-8590-0affd569094f
DTSTAMP:20251216T154522Z
SUMMARY:BASKETBALL-JV Girls - VS Proviso East (Game)
LOCATION:HOME - Westmont HS Gym
URL;VALUE=URI:https://www.cusd201.org/whs/athletics/calendar/8707064/basket
 ball-jv-girls-vs-proviso-east-game
DTSTART:20260121T233000Z
DTEND:20260122T013000Z
END:VEVENT
END:VCALENDAR
