BEGIN:VCALENDAR
VERSION:2.0
PRODID:SchoolNow
CALSCALE:GREGORIAN
BEGIN:VEVENT
UID:d6bff6f8-a4b5-11f0-8f3c-0affd569094f
DTSTAMP:20251216T154523Z
SUMMARY:BASKETBALL-V Girls - VS Proviso East (Game)
LOCATION:HOME - Westmont HS Gym
URL;VALUE=URI:https://www.cusd201.org/whs/athletics/calendar/8707065/basket
 ball-v-girls-vs-proviso-east-game
DTSTART:20260122T010000Z
DTEND:20260122T030000Z
END:VEVENT
END:VCALENDAR
