BEGIN:VCALENDAR
VERSION:2.0
PRODID:SchoolNow
CALSCALE:GREGORIAN
BEGIN:VEVENT
UID:ce13d1ae-a4e8-11f0-8543-0a58a9feac02
DTSTAMP:20251216T154523Z
SUMMARY:ADMINISTRATION-N - VS IHSA Regional Semifinal (Game)
LOCATION:HOME - Westmont HS Stadium
URL;VALUE=URI:https://www.cusd201.org/whs/athletics/calendar/8707618/admini
 stration-n-vs-ihsa-regional-semifinal-game
DTSTART:20251022T233000Z
DTEND:20251023T013000Z
END:VEVENT
END:VCALENDAR
