BEGIN:VCALENDAR
VERSION:2.0
PRODID:SchoolNow
CALSCALE:GREGORIAN
BEGIN:VEVENT
UID:ce13f184-a4e8-11f0-a170-0a58a9feac02
DTSTAMP:20251216T154523Z
SUMMARY:SOCCER-V Boys - VS IHSA Sectional Semifinal (Game)
LOCATION:HOME - Westmont HS Stadium
URL;VALUE=URI:https://www.cusd201.org/whs/athletics/calendar/8707619/soccer
 -v-boys-vs-ihsa-sectional-semifinal-game
DTSTART:20251029T213000Z
DTEND:20251029T233000Z
END:VEVENT
END:VCALENDAR
