BEGIN:VCALENDAR
VERSION:2.0
PRODID:SchoolNow
CALSCALE:GREGORIAN
BEGIN:VEVENT
UID:ce13f31e-a4e8-11f0-b4b0-0a58a9feac02
DTSTAMP:20251216T154522Z
SUMMARY:ADMINISTRATION-N - VS IHSA Sectional Semifinal (Game)
LOCATION:HOME - Westmont HS Stadium
URL;VALUE=URI:https://www.cusd201.org/whs/athletics/calendar/8707620/admini
 stration-n-vs-ihsa-sectional-semifinal-game
DTSTART:20251029T233000Z
DTEND:20251030T013000Z
END:VEVENT
END:VCALENDAR
