BEGIN:VCALENDAR
VERSION:2.0
PRODID:SchoolNow
CALSCALE:GREGORIAN
BEGIN:VEVENT
UID:ce13f44a-a4e8-11f0-bfc6-0a58a9feac02
DTSTAMP:20251216T154522Z
SUMMARY:ADMINISTRATION-N - VS IHSA Sectional Championship (Game)
LOCATION:HOME - Westmont HS Stadium
URL;VALUE=URI:https://www.cusd201.org/whs/athletics/calendar/8707621/admini
 stration-n-vs-ihsa-sectional-championship-game
DTSTART:20251031T230000Z
DTEND:20251101T010000Z
END:VEVENT
END:VCALENDAR
