BEGIN:VCALENDAR
VERSION:2.0
PRODID:SchoolNow
CALSCALE:GREGORIAN
BEGIN:VEVENT
UID:d055710a-a54e-11f0-ad8a-0a58a9feac02
DTSTAMP:20251216T154523Z
SUMMARY:SOCCER-V Boys - VS Joliet Catholic Academy (Game)
LOCATION:HOME - Westmont HS Stadium
URL;VALUE=URI:https://www.cusd201.org/whs/athletics/calendar/8709336/soccer
 -v-boys-vs-joliet-catholic-academy-game
DTSTART:20251014T213000Z
DTEND:20251014T233000Z
END:VEVENT
END:VCALENDAR
