BEGIN:VCALENDAR
VERSION:2.0
PRODID:SchoolNow
CALSCALE:GREGORIAN
BEGIN:VEVENT
UID:c96c5a42-a581-11f0-9b8d-0afff8e271fb
DTSTAMP:20251216T154523Z
SUMMARY:SOCCER-V Boys - VS Schaumburg Christian (Game)
LOCATION:HOME - Westmont HS Stadium
URL;VALUE=URI:https://www.cusd201.org/whs/athletics/calendar/8710251/soccer
 -v-boys-vs-schaumburg-christian-game
DTSTART:20251017T213000Z
DTEND:20251017T233000Z
END:VEVENT
END:VCALENDAR
