BEGIN:VCALENDAR
VERSION:2.0
PRODID:SchoolNow
CALSCALE:GREGORIAN
BEGIN:VEVENT
UID:96b87ae6-a94a-11f0-87a7-0a58a9feac02
DTSTAMP:20251216T154522Z
SUMMARY:BASKETBALL-JV Boys - VS Holy Trinity (Game)
LOCATION:HOME - Westmont HS Gym
URL;VALUE=URI:https://www.cusd201.org/whs/athletics/calendar/8722435/basket
 ball-jv-boys-vs-holy-trinity-game
DTSTART:20260123T233000Z
DTEND:20260124T010000Z
END:VEVENT
END:VCALENDAR
