BEGIN:VCALENDAR
VERSION:2.0
PRODID:SchoolNow
CALSCALE:GREGORIAN
BEGIN:VEVENT
UID:72f387ec-abe1-11f0-891c-0ea7ed057cdf
DTSTAMP:20251216T154522Z
SUMMARY:BASEBALL-V Boys - VS Parkview Christian (Game)
LOCATION:HOME - Westmont HS Varsity Baseball Field
URL;VALUE=URI:https://www.cusd201.org/whs/athletics/calendar/8731028/baseba
 ll-v-boys-vs-parkview-christian-game
DTSTART:20260428T213000Z
DTEND:20260428T233000Z
END:VEVENT
END:VCALENDAR
