BEGIN:VCALENDAR
VERSION:2.0
PRODID:SchoolNow
CALSCALE:GREGORIAN
BEGIN:VEVENT
UID:72f38b52-abe1-11f0-8817-0ea7ed057cdf
DTSTAMP:20251216T154523Z
SUMMARY:BASEBALL-V Boys - VS Juarez (Game)
LOCATION:HOME - Westmont HS Varsity Baseball Field
URL;VALUE=URI:https://www.cusd201.org/whs/athletics/calendar/8731029/baseba
 ll-v-boys-vs-juarez-game
DTSTART:20260401T213000Z
DTEND:20260401T233000Z
END:VEVENT
END:VCALENDAR
