BEGIN:VCALENDAR
VERSION:2.0
PRODID:SchoolNow
CALSCALE:GREGORIAN
BEGIN:VEVENT
UID:72f38c9c-abe1-11f0-b391-0ea7ed057cdf
DTSTAMP:20251216T154522Z
SUMMARY:BASEBALL-V Boys @ Westminster Christian (Game)
LOCATION:Away - Westminster Christian
URL;VALUE=URI:https://www.cusd201.org/whs/athletics/calendar/8731030/baseba
 ll-v-boys-westminster-christian-game
DTSTART:20260509T160000Z
DTEND:20260509T180000Z
END:VEVENT
END:VCALENDAR
