BEGIN:VCALENDAR
VERSION:2.0
PRODID:SchoolNow
CALSCALE:GREGORIAN
BEGIN:VEVENT
UID:72f38daa-abe1-11f0-9705-0ea7ed057cdf
DTSTAMP:20251216T154522Z
SUMMARY:BASEBALL-V Boys @ Glenbard West (Game)
LOCATION:Away - Glenbard West
URL;VALUE=URI:https://www.cusd201.org/whs/athletics/calendar/8731031/baseba
 ll-v-boys-glenbard-west-game
DTSTART:20260519T213000Z
DTEND:20260519T233000Z
END:VEVENT
END:VCALENDAR
