BEGIN:VCALENDAR
VERSION:2.0
PRODID:SchoolNow
CALSCALE:GREGORIAN
BEGIN:VEVENT
UID:72f38ea4-abe1-11f0-b856-0ea7ed057cdf
DTSTAMP:20251216T154523Z
SUMMARY:BASEBALL-JV Boys - VS Glenbard West (Game)
LOCATION:HOME - Westmont HS Varsity Baseball Field
URL;VALUE=URI:https://www.cusd201.org/whs/athletics/calendar/8731032/baseba
 ll-jv-boys-vs-glenbard-west-game
DTSTART:20260519T213000Z
DTEND:20260519T233000Z
END:VEVENT
END:VCALENDAR
