BEGIN:VCALENDAR
VERSION:2.0
PRODID:SchoolNow
CALSCALE:GREGORIAN
BEGIN:VEVENT
UID:72f38f94-abe1-11f0-8d39-0ea7ed057cdf
DTSTAMP:20251216T154523Z
SUMMARY:BASEBALL-JV Boys - VS Crossroads Christian (Game)
LOCATION:HOME - Westmont HS Varsity Baseball Field
URL;VALUE=URI:https://www.cusd201.org/whs/athletics/calendar/8731033/baseba
 ll-jv-boys-vs-crossroads-christian-game
DTSTART:20260414T213000Z
DTEND:20260414T233000Z
END:VEVENT
END:VCALENDAR
