BEGIN:VCALENDAR
VERSION:2.0
PRODID:SchoolNow
CALSCALE:GREGORIAN
BEGIN:VEVENT
UID:72f39084-abe1-11f0-9e3e-0ea7ed057cdf
DTSTAMP:20251216T154523Z
SUMMARY:VOLLEYBALL-V Girls - VS Chicago Prep Conference Tournament (Game)
LOCATION:HOME - Westmont HS Gym
URL;VALUE=URI:https://www.cusd201.org/whs/athletics/calendar/8731034/volley
 ball-v-girls-vs-chicago-prep-conference-tournament-game
DTSTART:20251022T000000Z
DTEND:20251022T020000Z
END:VEVENT
END:VCALENDAR
