BEGIN:VCALENDAR
VERSION:2.0
PRODID:SchoolNow
CALSCALE:GREGORIAN
BEGIN:VEVENT
UID:72f39174-abe1-11f0-8381-0ea7ed057cdf
DTSTAMP:20251216T154523Z
SUMMARY:SOCCER-V Boys - VS IHSA Regional Championship (Game)
LOCATION:HOME - Westmont HS Stadium
URL;VALUE=URI:https://www.cusd201.org/whs/athletics/calendar/8731035/soccer
 -v-boys-vs-ihsa-regional-championship-game
DTSTART:20251025T000000Z
DTEND:20251025T020000Z
END:VEVENT
END:VCALENDAR
