BEGIN:VCALENDAR
VERSION:2.0
PRODID:SchoolNow
CALSCALE:GREGORIAN
BEGIN:VEVENT
UID:6fed0486-ac47-11f0-92a9-02acfdc1e457
DTSTAMP:20251216T154522Z
SUMMARY:VOLLEYBALL-JV Girls - VS Chicago Prep Conference Tournament (Game)
LOCATION:HOME - Westmont HS Gym
URL;VALUE=URI:https://www.cusd201.org/whs/athletics/calendar/8731913/volley
 ball-jv-girls-vs-chicago-prep-conference-tournament-game
DTSTART:20251024T003000Z
DTEND:20251024T020000Z
END:VEVENT
END:VCALENDAR
