BEGIN:VCALENDAR
VERSION:2.0
PRODID:SchoolNow
CALSCALE:GREGORIAN
BEGIN:VEVENT
UID:6fed060c-ac47-11f0-8507-02acfdc1e457
DTSTAMP:20251216T154523Z
SUMMARY:ADMINISTRATION-N - VS Chicago Prep Conference Tournament (Game)
LOCATION:HOME - Westmont HS Gym
URL;VALUE=URI:https://www.cusd201.org/whs/athletics/calendar/8731914/admini
 stration-n-vs-chicago-prep-conference-tournament-game
DTSTART:20251021T220000Z
DTEND:20251022T010000Z
END:VEVENT
END:VCALENDAR
