BEGIN:VCALENDAR
VERSION:2.0
PRODID:SchoolNow
CALSCALE:GREGORIAN
BEGIN:VEVENT
UID:649e2fa0-af90-11f0-ae7c-0affd97868ad
DTSTAMP:20251216T154522Z
SUMMARY:VOLLEYBALL-V Girls - VS IHSA Regional Championship (Game)
LOCATION:HOME - Westmont HS Gym
URL;VALUE=URI:https://www.cusd201.org/whs/athletics/calendar/8743345/volley
 ball-v-girls-vs-ihsa-regional-championship-game
DTSTART:20251030T230000Z
DTEND:20251031T010000Z
END:VEVENT
END:VCALENDAR
