BEGIN:VCALENDAR
VERSION:2.0
PRODID:SchoolNow
CALSCALE:GREGORIAN
BEGIN:VEVENT
UID:649e334c-af90-11f0-9db8-0affd97868ad
DTSTAMP:20251216T154523Z
SUMMARY:ADMINISTRATION-N - VS IHSA Regional Quarterfinal (Game)
LOCATION:HOME - Westmont HS Gym
URL;VALUE=URI:https://www.cusd201.org/whs/athletics/calendar/8743346/admini
 stration-n-vs-ihsa-regional-quarterfinal-game
DTSTART:20251027T230000Z
DTEND:20251028T010000Z
END:VEVENT
END:VCALENDAR
