BEGIN:VCALENDAR
VERSION:2.0
PRODID:SchoolNow
CALSCALE:GREGORIAN
BEGIN:VEVENT
UID:649e3496-af90-11f0-8672-0affd97868ad
DTSTAMP:20251216T154522Z
SUMMARY:ADMINISTRATION-N - VS IHSA Regional Semifinal (Game)
LOCATION:HOME - Westmont HS Gym
URL;VALUE=URI:https://www.cusd201.org/whs/athletics/calendar/8743347/admini
 stration-n-vs-ihsa-regional-semifinal-game
DTSTART:20251029T000000Z
DTEND:20251029T020000Z
END:VEVENT
END:VCALENDAR
