BEGIN:VCALENDAR
VERSION:2.0
PRODID:SchoolNow
CALSCALE:GREGORIAN
BEGIN:VEVENT
UID:303e1996-b38c-11f0-a431-0a58a9feac02
DTSTAMP:20251216T154523Z
SUMMARY:BASKETBALL-V Girls @ Elmwood Park (Game)
LOCATION:Away - Elmwood Park
URL;VALUE=URI:https://www.cusd201.org/whs/athletics/calendar/8755618/basket
 ball-v-girls-elmwood-park-game
DTSTART:20260207T183000Z
DTEND:20260207T203000Z
END:VEVENT
END:VCALENDAR
